BEGIN:VCALENDAR
VERSION:2.0
PRODID:-// - ECPv6.15.12.2//NONSGML v1.0//EN
CALSCALE:GREGORIAN
METHOD:PUBLISH
X-ORIGINAL-URL:https://asso-memo.com
X-WR-CALDESC:Évènements pour 
REFRESH-INTERVAL;VALUE=DURATION:PT1H
X-Robots-Tag:noindex
X-PUBLISHED-TTL:PT1H
BEGIN:VTIMEZONE
TZID:Europe/Paris
BEGIN:DAYLIGHT
TZOFFSETFROM:+0100
TZOFFSETTO:+0200
TZNAME:CEST
DTSTART:20210328T010000
END:DAYLIGHT
BEGIN:STANDARD
TZOFFSETFROM:+0200
TZOFFSETTO:+0100
TZNAME:CET
DTSTART:20211031T010000
END:STANDARD
BEGIN:DAYLIGHT
TZOFFSETFROM:+0100
TZOFFSETTO:+0200
TZNAME:CEST
DTSTART:20220327T010000
END:DAYLIGHT
BEGIN:STANDARD
TZOFFSETFROM:+0200
TZOFFSETTO:+0100
TZNAME:CET
DTSTART:20221030T010000
END:STANDARD
BEGIN:DAYLIGHT
TZOFFSETFROM:+0100
TZOFFSETTO:+0200
TZNAME:CEST
DTSTART:20230326T010000
END:DAYLIGHT
BEGIN:STANDARD
TZOFFSETFROM:+0200
TZOFFSETTO:+0100
TZNAME:CET
DTSTART:20231029T010000
END:STANDARD
END:VTIMEZONE
BEGIN:VEVENT
DTSTART;TZID=Europe/Paris:20221129T190000
DTEND;TZID=Europe/Paris:20221129T220000
DTSTAMP:20260423T063631
CREATED:20221125T111456Z
LAST-MODIFIED:20221125T111456Z
UID:334-1669748400-1669759200@asso-memo.com
SUMMARY:Soirée annuelle MéMo
DESCRIPTION:Mardi 29 novembre à partir de 19h et jusqu’à 22h \nà la Cité audacieuse\, premier tiers lieu féministe à Paris\, 9 rue de Vaugirard – 75006 Paris  \n​Gratuit – sur inscription : \nhttps://www.helloasso.com/associations/collectif-memo/evenements/memo-presente-soiree-decouverte-a-la-cite-audacieuse
URL:https://asso-memo.com/event/soiree-annuelle-memo/
LOCATION:La Cité Audacieuse\, 9 rue de Vaugirard\, Paris\, 75006\, France
END:VEVENT
END:VCALENDAR